BEGIN:VCALENDAR
VERSION:2.0
PRODID:-//time.you/holidays//NONSGML v1.0//EN
BEGIN:VEVENT
UID:d9d206ad-bedd-4099-b01d-7b1caca31df1
DTSTAMP:20260420T132947Z
DTSTART;VALUE=DATE:20270204
SUMMARY:29 of Lunar New Year (Vietnam)
END:VEVENT
END:VCALENDAR