BEGIN:VCALENDAR
VERSION:2.0
PRODID:-//time.you/holidays//NONSGML v1.0//EN
BEGIN:VEVENT
UID:18be92cc-f28b-4912-80c3-2e4e422e7e45
DTSTAMP:20260420T062527Z
DTSTART;VALUE=DATE:20260427
SUMMARY:Hung Kings' Commemoration Day (observed) (Vietnam)
END:VEVENT
END:VCALENDAR