BEGIN:VCALENDAR
VERSION:2.0
PRODID:-//time.you/holidays//NONSGML v1.0//EN
BEGIN:VEVENT
UID:b5d57bd3-44a0-4d24-8edc-8f4868fa1fa6
DTSTAMP:20260420T071825Z
DTSTART;VALUE=DATE:20260218
SUMMARY:Second Day of Lunar New Year (Vietnam)
END:VEVENT
END:VCALENDAR