BEGIN:VCALENDAR
VERSION:2.0
PRODID:-//time.you/holidays//NONSGML v1.0//EN
BEGIN:VEVENT
UID:0649e24c-8d39-4d6c-b871-581d7eed8295
DTSTAMP:20260420T071819Z
DTSTART;VALUE=DATE:20260219
SUMMARY:Third Day of Lunar New Year (Vietnam)
END:VEVENT
END:VCALENDAR