BEGIN:VCALENDAR
VERSION:2.0
PRODID:-//time.you/holidays//NONSGML v1.0//EN
BEGIN:VEVENT
UID:a8528748-2a15-4f9c-9e20-aa8832eb1273
DTSTAMP:20260420T024753Z
DTSTART;VALUE=DATE:20260815
SUMMARY:Assumption Day (Wallis and Futuna)
END:VEVENT
END:VCALENDAR