BEGIN:VCALENDAR
VERSION:2.0
PRODID:-//time.you/holidays//NONSGML v1.0//EN
BEGIN:VEVENT
UID:1d7c07c0-50c0-4811-9b26-c048090cc27b
DTSTAMP:20260420T012523Z
DTSTART;VALUE=DATE:20260629
SUMMARY:Saints Peter and Paul Day (Wallis and Futuna)
END:VEVENT
END:VCALENDAR