BEGIN:VCALENDAR
VERSION:2.0
PRODID:-//time.you/holidays//NONSGML v1.0//EN
BEGIN:VEVENT
UID:8addd9b0-df67-4c1c-91b1-853b04ba4a84
DTSTAMP:20260421T205356Z
DTSTART;VALUE=DATE:20260527
SUMMARY:Eid al-Adha (estimated) (Western Sahara)
END:VEVENT
END:VCALENDAR