BEGIN:VCALENDAR
VERSION:2.0
PRODID:-//time.you/holidays//NONSGML v1.0//EN
BEGIN:VEVENT
UID:7e09226d-36a3-4281-92b7-6f282d862d49
DTSTAMP:20260421T194445Z
DTSTART;VALUE=DATE:20260320
SUMMARY:Eid al-Fitr (estimated) (Western Sahara)
END:VEVENT
END:VCALENDAR