BEGIN:VCALENDAR
VERSION:2.0
PRODID:-//time.you/holidays//NONSGML v1.0//EN
BEGIN:VEVENT
UID:0dfdabce-7855-4806-9641-79af34dcef39
DTSTAMP:20260420T081455Z
DTSTART;VALUE=DATE:20260609
SUMMARY:Martyrs' Day (Western Sahara)
END:VEVENT
END:VCALENDAR