BEGIN:VCALENDAR
VERSION:2.0
PRODID:-//time.you/holidays//NONSGML v1.0//EN
BEGIN:VEVENT
UID:e3562570-86b4-4594-89c7-9eb8609dec8a
DTSTAMP:20260421T223343Z
DTSTART;VALUE=DATE:20240414
SUMMARY:Eid al-Fitr (observed) (Yemen)
END:VEVENT
END:VCALENDAR