BEGIN:VCALENDAR
VERSION:2.0
PRODID:-//time.you/holidays//NONSGML v1.0//EN
BEGIN:VEVENT
UID:fbb14205-d9da-4103-8850-2f038ed43f80
DTSTAMP:20260421T194855Z
DTSTART;VALUE=DATE:20260616
SUMMARY:Hijri New Year (estimated) (Yemen)
END:VEVENT
END:VCALENDAR