BEGIN:VCALENDAR
VERSION:2.0
PRODID:-//time.you/holidays//NONSGML v1.0//EN
BEGIN:VEVENT
UID:6b1089fc-0395-4618-b765-7bad0f6b8361
DTSTAMP:20260421T162140Z
DTSTART;VALUE=DATE:20240707
SUMMARY:Hijri New Year (Yemen)
END:VEVENT
END:VCALENDAR