BEGIN:VCALENDAR
VERSION:2.0
PRODID:-//time.you/holidays//NONSGML v1.0//EN
BEGIN:VEVENT
UID:f07dbcbb-9932-4317-93bd-b2170146a5ba
DTSTAMP:20260420T132256Z
DTSTART;VALUE=DATE:20261130
SUMMARY:Independence Day (Yemen)
END:VEVENT
END:VCALENDAR