BEGIN:VCALENDAR
VERSION:2.0
PRODID:-//time.you/holidays//NONSGML v1.0//EN
BEGIN:VEVENT
UID:8bdd0d03-e445-4cf9-9287-7da22c6f55bd
DTSTAMP:20260421T233919Z
DTSTART;VALUE=DATE:20331016
SUMMARY:Liberation Day (observed) (Yemen)
END:VEVENT
END:VCALENDAR