BEGIN:VCALENDAR
VERSION:2.0
PRODID:-//time.you/holidays//NONSGML v1.0//EN
BEGIN:VEVENT
UID:c157f0d7-5be8-43e7-930a-f3dced8abfe9
DTSTAMP:20260421T164559Z
DTSTART;VALUE=DATE:20260926
SUMMARY:Revolution Day (Yemen)
END:VEVENT
END:VCALENDAR