BEGIN:VCALENDAR
VERSION:2.0
PRODID:-//time.you/holidays//NONSGML v1.0//EN
BEGIN:VEVENT
UID:93933010-d3d2-4316-923f-8ed721eb5ba1
DTSTAMP:20260425T010425Z
DTSTART;VALUE=DATE:20310526
SUMMARY:Africa Freedom Day (observed) (Zambia)
END:VEVENT
END:VCALENDAR