BEGIN:VCALENDAR
VERSION:2.0
PRODID:-//time.you/holidays//NONSGML v1.0//EN
BEGIN:VEVENT
UID:e5c26e0c-261a-4825-922e-600482cf2f14
DTSTAMP:20260420T071839Z
DTSTART;VALUE=DATE:20260525
SUMMARY:Africa Freedom Day (Zambia)
END:VEVENT
END:VCALENDAR