BEGIN:VCALENDAR
VERSION:2.0
PRODID:-//time.you/holidays//NONSGML v1.0//EN
BEGIN:VEVENT
UID:769b05b1-185f-4b45-b899-b6b60c89dea8
DTSTAMP:20260421T033151Z
DTSTART;VALUE=DATE:20260406
SUMMARY:Easter Monday (Zambia)
END:VEVENT
END:VCALENDAR