BEGIN:VCALENDAR
VERSION:2.0
PRODID:-//time.you/holidays//NONSGML v1.0//EN
BEGIN:VEVENT
UID:67fcf6cc-1a71-4857-a042-1af7e00627c7
DTSTAMP:20260424T122238Z
DTSTART;VALUE=DATE:20260803
SUMMARY:Farmers' Day (Zambia)
END:VEVENT
END:VCALENDAR