BEGIN:VCALENDAR
VERSION:2.0
PRODID:-//time.you/holidays//NONSGML v1.0//EN
BEGIN:VEVENT
UID:85247cee-7635-44f7-9d80-bd7997cf5fc7
DTSTAMP:20260425T023115Z
DTSTART;VALUE=DATE:20210812
SUMMARY:General elections (Zambia)
END:VEVENT
END:VCALENDAR