BEGIN:VCALENDAR
VERSION:2.0
PRODID:-//time.you/holidays//NONSGML v1.0//EN
BEGIN:VEVENT
UID:8f3c8576-4892-497c-a98f-3b4370e70545
DTSTAMP:20260421T112210Z
DTSTART;VALUE=DATE:20260706
SUMMARY:Heroes' Day (Zambia)
END:VEVENT
END:VCALENDAR