BEGIN:VCALENDAR
VERSION:2.0
PRODID:-//time.you/holidays//NONSGML v1.0//EN
BEGIN:VEVENT
UID:f73ca5bd-853b-4c3b-b2e3-b6cff487adac
DTSTAMP:20260421T211904Z
DTSTART;VALUE=DATE:20260404
SUMMARY:Holy Saturday (Zambia)
END:VEVENT
END:VCALENDAR