BEGIN:VCALENDAR
VERSION:2.0
PRODID:-//time.you/holidays//NONSGML v1.0//EN
BEGIN:VEVENT
UID:39a778ca-d0c1-409b-996e-eaece650c3a0
DTSTAMP:20260424T053249Z
DTSTART;VALUE=DATE:20300429
SUMMARY:Kenneth Kaunda Day (observed) (Zambia)
END:VEVENT
END:VCALENDAR