BEGIN:VCALENDAR
VERSION:2.0
PRODID:-//time.you/holidays//NONSGML v1.0//EN
BEGIN:VEVENT
UID:d839c037-8b85-468c-b91a-1978348f88a6
DTSTAMP:20260420T125310Z
DTSTART;VALUE=DATE:20260428
SUMMARY:Kenneth Kaunda Day (Zambia)
END:VEVENT
END:VCALENDAR