BEGIN:VCALENDAR
VERSION:2.0
PRODID:-//time.you/holidays//NONSGML v1.0//EN
BEGIN:VEVENT
UID:d6bcc7c8-5d37-4be2-b968-9d79e93be0c3
DTSTAMP:20260423T233157Z
DTSTART;VALUE=DATE:20261019
SUMMARY:National Prayer Day (observed) (Zambia)
END:VEVENT
END:VCALENDAR