BEGIN:VCALENDAR
VERSION:2.0
PRODID:-//time.you/holidays//NONSGML v1.0//EN
BEGIN:VEVENT
UID:d95aa844-534d-4294-a2a0-d835a9c13656
DTSTAMP:20260423T230629Z
DTSTART;VALUE=DATE:20261018
SUMMARY:National Prayer Day (Zambia)
END:VEVENT
END:VCALENDAR