BEGIN:VCALENDAR
VERSION:2.0
PRODID:-//time.you/holidays//NONSGML v1.0//EN
BEGIN:VEVENT
UID:e8c2b0df-e4d8-4cd4-a780-a8061134b104
DTSTAMP:20260424T152847Z
DTSTART;VALUE=DATE:20310526
SUMMARY:Africa Day (observed) (Zimbabwe)
END:VEVENT
END:VCALENDAR