BEGIN:VCALENDAR
VERSION:2.0
PRODID:-//time.you/holidays//NONSGML v1.0//EN
BEGIN:VEVENT
UID:7c89884d-a095-42eb-8288-7748e439d716
DTSTAMP:20260420T184400Z
DTSTART;VALUE=DATE:20261226
SUMMARY:Boxing Day (Zimbabwe)
END:VEVENT
END:VCALENDAR