BEGIN:VCALENDAR
VERSION:2.0
PRODID:-//time.you/holidays//NONSGML v1.0//EN
BEGIN:VEVENT
UID:d95a89f6-ba33-4d72-a1bd-9fcb00b3eb90
DTSTAMP:20260421T220251Z
DTSTART;VALUE=DATE:20330418
SUMMARY:Easter Monday; Independence Day (Zimbabwe)
END:VEVENT
END:VCALENDAR