BEGIN:VCALENDAR
VERSION:2.0
PRODID:-//time.you/holidays//NONSGML v1.0//EN
BEGIN:VEVENT
UID:7b819e92-a767-449d-8dcd-d2e931f16d92
DTSTAMP:20260423T133316Z
DTSTART;VALUE=DATE:20260406
SUMMARY:Easter Monday (Zimbabwe)
END:VEVENT
END:VCALENDAR