BEGIN:VCALENDAR
VERSION:2.0
PRODID:-//time.you/holidays//NONSGML v1.0//EN
BEGIN:VEVENT
UID:21afbdb3-fef2-466e-a763-10e4f81818e7
DTSTAMP:20260424T170141Z
DTSTART;VALUE=DATE:20260404
SUMMARY:Easter Saturday (Zimbabwe)
END:VEVENT
END:VCALENDAR