BEGIN:VCALENDAR
VERSION:2.0
PRODID:-//time.you/holidays//NONSGML v1.0//EN
BEGIN:VEVENT
UID:e12f8d46-a9d1-4fdb-950b-2a8150737048
DTSTAMP:20260424T000713Z
DTSTART;VALUE=DATE:20330502
SUMMARY:Workers' Day (observed) (Zimbabwe)
END:VEVENT
END:VCALENDAR